BEGIN:VCALENDAR
VERSION:2.0
PRODID:-//Sweet Spot • Arts ~ Yoga ~ Bien être - ECPv6.15.13.1//NONSGML v1.0//EN
CALSCALE:GREGORIAN
METHOD:PUBLISH
X-ORIGINAL-URL:https://mysweetspot.fr
X-WR-CALDESC:Évènements pour Sweet Spot • Arts ~ Yoga ~ Bien être
REFRESH-INTERVAL;VALUE=DURATION:PT1H
X-Robots-Tag:noindex
X-PUBLISHED-TTL:PT1H
BEGIN:VTIMEZONE
TZID:Europe/Paris
BEGIN:DAYLIGHT
TZOFFSETFROM:+0100
TZOFFSETTO:+0200
TZNAME:CEST
DTSTART:20250330T010000
END:DAYLIGHT
BEGIN:STANDARD
TZOFFSETFROM:+0200
TZOFFSETTO:+0100
TZNAME:CET
DTSTART:20251026T010000
END:STANDARD
BEGIN:DAYLIGHT
TZOFFSETFROM:+0100
TZOFFSETTO:+0200
TZNAME:CEST
DTSTART:20260329T010000
END:DAYLIGHT
BEGIN:STANDARD
TZOFFSETFROM:+0200
TZOFFSETTO:+0100
TZNAME:CET
DTSTART:20261025T010000
END:STANDARD
BEGIN:DAYLIGHT
TZOFFSETFROM:+0100
TZOFFSETTO:+0200
TZNAME:CEST
DTSTART:20270328T010000
END:DAYLIGHT
BEGIN:STANDARD
TZOFFSETFROM:+0200
TZOFFSETTO:+0100
TZNAME:CET
DTSTART:20271031T010000
END:STANDARD
END:VTIMEZONE
BEGIN:VEVENT
DTSTART;TZID=Europe/Paris:20260717T180000
DTEND;TZID=Europe/Paris:20260719T173000
DTSTAMP:20260420T055148
CREATED:20260322T185027Z
LAST-MODIFIED:20260323T110541Z
UID:26727-1784311200-1784482200@mysweetspot.fr
SUMMARY:Séjour Normand 17-19 juillet Yoga Randonnée
DESCRIPTION:Séjour normand bien-être nature et partage				\n				\n				\n				\n									Un week-end hors du temps pour se reconnecter à soi\, aux autres et à la natureDu vendredi au dimanche\, on ralentit\, on respire\, on bouge\, on échange Yoga\, randonnées\, méditation\, partages\, coucher de soleil\, observation des étoiles… un programme doux et profond pour nourrir le corps et l’âme. Ce séjour est pensé comme un espace accessible à tous et pour tousInclusif\, bienveillant\, sans jugement.Peu importe ton niveau\, ton parcours\, ton énergie du moment : tu es le/la bienvenu(e). Avec mon équipe en Normandie\, on a voulu rendre ce type d’expérience accessible à tous\, sans chichis\, et vraiment abordable. C’est un séjour riche\, complet\, humain… à prix vraiment très doux ! 310 euros tout inclus jusqu’au 15 mai !!! Contacte nous si tu veux en bénéficier 🥰 Places limitées 💫 ✨ 📍 Barneville-Carteret\, proche Cherbourg 📅 16 – 18 juillet 📞 06 20 39 39 27
URL:https://mysweetspot.fr/event/sejour-normand-17-19-juillet-yoga-randonnee/
LOCATION:BARNEVILLE CARTERET
CATEGORIES:RANDONNEE,Yoga
ATTACH;FMTTYPE=image/jpeg:https://mysweetspot.fr/wp-content/uploads/2026/03/17-19-JUILLET.jpg
ORGANIZER;CN="G%C3%A9raldine Sweet spot":MAILTO:geraldine.sweetspot@gmail.com
END:VEVENT
END:VCALENDAR