BEGIN:VCALENDAR
VERSION:2.0
PRODID:-//Sweet Spot • Arts ~ Yoga ~ Bien être - ECPv6.15.13.1//NONSGML v1.0//EN
CALSCALE:GREGORIAN
METHOD:PUBLISH
X-WR-CALNAME:Sweet Spot • Arts ~ Yoga ~ Bien être
X-ORIGINAL-URL:https://mysweetspot.fr
X-WR-CALDESC:Évènements pour Sweet Spot • Arts ~ Yoga ~ Bien être
REFRESH-INTERVAL;VALUE=DURATION:PT1H
X-Robots-Tag:noindex
X-PUBLISHED-TTL:PT1H
BEGIN:VTIMEZONE
TZID:Europe/Paris
BEGIN:DAYLIGHT
TZOFFSETFROM:+0100
TZOFFSETTO:+0200
TZNAME:CEST
DTSTART:20230326T010000
END:DAYLIGHT
BEGIN:STANDARD
TZOFFSETFROM:+0200
TZOFFSETTO:+0100
TZNAME:CET
DTSTART:20231029T010000
END:STANDARD
BEGIN:DAYLIGHT
TZOFFSETFROM:+0100
TZOFFSETTO:+0200
TZNAME:CEST
DTSTART:20240331T010000
END:DAYLIGHT
BEGIN:STANDARD
TZOFFSETFROM:+0200
TZOFFSETTO:+0100
TZNAME:CET
DTSTART:20241027T010000
END:STANDARD
BEGIN:DAYLIGHT
TZOFFSETFROM:+0100
TZOFFSETTO:+0200
TZNAME:CEST
DTSTART:20250330T010000
END:DAYLIGHT
BEGIN:STANDARD
TZOFFSETFROM:+0200
TZOFFSETTO:+0100
TZNAME:CET
DTSTART:20251026T010000
END:STANDARD
BEGIN:DAYLIGHT
TZOFFSETFROM:+0100
TZOFFSETTO:+0200
TZNAME:CEST
DTSTART:20260329T010000
END:DAYLIGHT
BEGIN:STANDARD
TZOFFSETFROM:+0200
TZOFFSETTO:+0100
TZNAME:CET
DTSTART:20261025T010000
END:STANDARD
BEGIN:DAYLIGHT
TZOFFSETFROM:+0100
TZOFFSETTO:+0200
TZNAME:CEST
DTSTART:20270328T010000
END:DAYLIGHT
BEGIN:STANDARD
TZOFFSETFROM:+0200
TZOFFSETTO:+0100
TZNAME:CET
DTSTART:20271031T010000
END:STANDARD
END:VTIMEZONE
BEGIN:VEVENT
DTSTART;TZID=Europe/Paris:20260405T093000
DTEND;TZID=Europe/Paris:20260405T123000
DTSTAMP:20260420T030116
CREATED:20260319T135902Z
LAST-MODIFIED:20260321T221515Z
UID:26564-1775381400-1775392200@mysweetspot.fr
SUMMARY:Massage et Yoga 5 avril
DESCRIPTION:Séjour normand bien-être nature et partage				\n				\n				\n				\n									Un week-end hors du temps pour se reconnecter à soi\, aux autres et à la natureDu vendredi au dimanche\, on ralentit\, on respire\, on bouge\, on échange Yoga\, randonnées\, méditation\, partages\, coucher de soleil\, observation des étoiles… un programme doux et profond pour nourrir le corps et l’âme. Ce séjour est pensé comme un espace accessible à tous et pour tousInclusif\, bienveillant\, sans jugement.Peu importe ton niveau\, ton parcours\, ton énergie du moment : tu es le/la bienvenu(e). Avec mon équipe en Normandie\, on a voulu rendre ce type d’expérience accessible à tous\, sans chichis\, et vraiment abordable. C’est un séjour riche\, complet\, humain… à prix vraiment très doux ! 310 euros tout inclus jusqu’au 15 mai !!! Contacte nous si tu veux en bénéficier 🥰 Places limitées 💫 ✨ 📍 Barneville-Carteret\, proche Cherbourg 📅 16 – 18 juillet 📞 06 20 39 39 27
URL:https://mysweetspot.fr/event/massage-et-yoga-5-avril/
LOCATION:Bagnols en forêt\, 83600
CATEGORIES:Massages,Yoga
ATTACH;FMTTYPE=image/jpeg:https://mysweetspot.fr/wp-content/uploads/2026/03/5-avril-massage-Yoga.jpg
ORGANIZER;CN="G%C3%A9raldine Sweet spot":MAILTO:geraldine.sweetspot@gmail.com
END:VEVENT
BEGIN:VEVENT
DTSTART;VALUE=DATE:20260322
DTEND;VALUE=DATE:20260323
DTSTAMP:20260420T030116
CREATED:20260308T142004Z
LAST-MODIFIED:20260310T100209Z
UID:26418-1774137600-1774223999@mysweetspot.fr
SUMMARY:Journée autour du Yoga et de l'Ayurveda
DESCRIPTION:Séjour normand bien-être nature et partage				\n				\n				\n				\n									Un week-end hors du temps pour se reconnecter à soi\, aux autres et à la natureDu vendredi au dimanche\, on ralentit\, on respire\, on bouge\, on échange Yoga\, randonnées\, méditation\, partages\, coucher de soleil\, observation des étoiles… un programme doux et profond pour nourrir le corps et l’âme. Ce séjour est pensé comme un espace accessible à tous et pour tousInclusif\, bienveillant\, sans jugement.Peu importe ton niveau\, ton parcours\, ton énergie du moment : tu es le/la bienvenu(e). Avec mon équipe en Normandie\, on a voulu rendre ce type d’expérience accessible à tous\, sans chichis\, et vraiment abordable. C’est un séjour riche\, complet\, humain… à prix vraiment très doux ! 310 euros tout inclus jusqu’au 15 mai !!! Contacte nous si tu veux en bénéficier 🥰 Places limitées 💫 ✨ 📍 Barneville-Carteret\, proche Cherbourg 📅 16 – 18 juillet 📞 06 20 39 39 27
URL:https://mysweetspot.fr/event/journee-autour-du-yoga-et-de-layurveda/
LOCATION:mougins\, MOUGINS\, O6250
CATEGORIES:Bien-être,Yoga
ATTACH;FMTTYPE=image/jpeg:https://mysweetspot.fr/wp-content/uploads/2026/03/ATELIER-CUISINE.jpg
ORGANIZER;CN="G%C3%A9raldine Sweet spot":MAILTO:geraldine.sweetspot@gmail.com
END:VEVENT
BEGIN:VEVENT
DTSTART;TZID=Europe/Paris:20260117T140000
DTEND;TZID=Europe/Paris:20260117T180000
DTSTAMP:20260420T030116
CREATED:20260114T192525Z
LAST-MODIFIED:20260114T193636Z
UID:25781-1768658400-1768672800@mysweetspot.fr
SUMMARY:CERCLE DE FEMME
DESCRIPTION:Séjour normand bien-être nature et partage				\n				\n				\n				\n									Un week-end hors du temps pour se reconnecter à soi\, aux autres et à la natureDu vendredi au dimanche\, on ralentit\, on respire\, on bouge\, on échange Yoga\, randonnées\, méditation\, partages\, coucher de soleil\, observation des étoiles… un programme doux et profond pour nourrir le corps et l’âme. Ce séjour est pensé comme un espace accessible à tous et pour tousInclusif\, bienveillant\, sans jugement.Peu importe ton niveau\, ton parcours\, ton énergie du moment : tu es le/la bienvenu(e). Avec mon équipe en Normandie\, on a voulu rendre ce type d’expérience accessible à tous\, sans chichis\, et vraiment abordable. C’est un séjour riche\, complet\, humain… à prix vraiment très doux ! 310 euros tout inclus jusqu’au 15 mai !!! Contacte nous si tu veux en bénéficier 🥰 Places limitées 💫 ✨ 📍 Barneville-Carteret\, proche Cherbourg 📅 16 – 18 juillet 📞 06 20 39 39 27
URL:https://mysweetspot.fr/event/cercle-de-femme/
LOCATION:SAINT RAPHAÊL\, France
CATEGORIES:Bien-être
ATTACH;FMTTYPE=image/jpeg:https://mysweetspot.fr/wp-content/uploads/2024/06/sweet-spot-geraldine-yoga-bien-etre-arts-artistes3.jpg
ORGANIZER;CN="G%C3%A9raldine Sweet spot":MAILTO:geraldine.sweetspot@gmail.com
END:VEVENT
BEGIN:VEVENT
DTSTART;TZID=Europe/Paris:20240713T100000
DTEND;TZID=Europe/Paris:20240713T123000
DTSTAMP:20260420T030116
CREATED:20240705T140849Z
LAST-MODIFIED:20240705T145341Z
UID:25440-1720864800-1720873800@mysweetspot.fr
SUMMARY:Yoga & Réflexologie sur la plage
DESCRIPTION:Séjour normand bien-être nature et partage				\n				\n				\n				\n									Un week-end hors du temps pour se reconnecter à soi\, aux autres et à la natureDu vendredi au dimanche\, on ralentit\, on respire\, on bouge\, on échange Yoga\, randonnées\, méditation\, partages\, coucher de soleil\, observation des étoiles… un programme doux et profond pour nourrir le corps et l’âme. Ce séjour est pensé comme un espace accessible à tous et pour tousInclusif\, bienveillant\, sans jugement.Peu importe ton niveau\, ton parcours\, ton énergie du moment : tu es le/la bienvenu(e). Avec mon équipe en Normandie\, on a voulu rendre ce type d’expérience accessible à tous\, sans chichis\, et vraiment abordable. C’est un séjour riche\, complet\, humain… à prix vraiment très doux ! 310 euros tout inclus jusqu’au 15 mai !!! Contacte nous si tu veux en bénéficier 🥰 Places limitées 💫 ✨ 📍 Barneville-Carteret\, proche Cherbourg 📅 16 – 18 juillet 📞 06 20 39 39 27
URL:https://mysweetspot.fr/event/yoga-reflexologie-sur-la-plage/
LOCATION:Plage de Fort Joret\, 49-35 Fort Joret\, Fermanville\, 50840\, France
CATEGORIES:Méditation,Réflexologue,Rélaxation,Yoga
ATTACH;FMTTYPE=image/jpeg:https://mysweetspot.fr/wp-content/uploads/2024/07/Atelier-duo-yoga-reflexo-juillet-2024-1080-x-1350-px.jpg.jpg
ORGANIZER;CN="G%C3%A9raldine Sweet spot":MAILTO:geraldine.sweetspot@gmail.com
END:VEVENT
END:VCALENDAR